BEGIN:VCALENDAR
VERSION:2.0
PRODID:-//ST health testing Site - ECPv6.15.12.2//NONSGML v1.0//EN
CALSCALE:GREGORIAN
METHOD:PUBLISH
X-ORIGINAL-URL:https://sthealthtesting.xcc.smashfly.io
X-WR-CALDESC:Events for ST health testing Site
REFRESH-INTERVAL;VALUE=DURATION:PT1H
X-Robots-Tag:noindex
X-PUBLISHED-TTL:PT1H
BEGIN:VTIMEZONE
TZID:Asia/Kolkata
BEGIN:STANDARD
TZOFFSETFROM:+0530
TZOFFSETTO:+0530
TZNAME:IST
DTSTART:20250101T000000
END:STANDARD
END:VTIMEZONE
BEGIN:VEVENT
DTSTART;TZID=Asia/Kolkata:20260417T000000
DTEND;TZID=Asia/Kolkata:20260417T234500
DTSTAMP:20260423T051932
CREATED:20260417T051225Z
LAST-MODIFIED:20260417T051225Z
UID:10532-1776384000-1776469500@sthealthtesting.xcc.smashfly.io
SUMMARY:event1776402363259
DESCRIPTION:This is an automation test event description \nRegister
URL:https://sthealthtesting.xcc.smashfly.io/event/event1776402363259/
LOCATION:25.22 venue\, Bengaluru\, Bengaluru\, India
END:VEVENT
END:VCALENDAR